BEGIN:VCALENDAR
VERSION:2.0
METHOD:PUBLISH
PRODID:-//ddaysoftware.com//NONSGML DDay.iCal 1.0//EN
BEGIN:VTIMEZONE
TZID:AUS Eastern Standard Time
BEGIN:STANDARD
DTSTART;VALUE=DATE:18000101
RRULE:FREQ=YEARLY;BYDAY=SU;BYHOUR=3;BYMINUTE=0;BYMONTH=3;BYMONTHDAY=25,26,2
 7,28,29,30,31
TZOFFSETFROM:+1100
TZOFFSETTO:+1000
END:STANDARD
BEGIN:DAYLIGHT
DTSTART;VALUE=DATE:18000101
RRULE:FREQ=YEARLY;BYDAY=SU;BYHOUR=2;BYMINUTE=0;BYMONTH=10;BYMONTHDAY=25,26,
 27,28,29,30,31
TZOFFSETFROM:+1000
TZOFFSETTO:+1100
END:DAYLIGHT
BEGIN:STANDARD
DTSTART;VALUE=DATE:20080101
RRULE:FREQ=YEARLY;BYDAY=SU;BYHOUR=3;BYMINUTE=0;BYMONTH=4;BYMONTHDAY=1,2,3,4
 ,5,6,7
TZOFFSETFROM:+1100
TZOFFSETTO:+1000
END:STANDARD
BEGIN:DAYLIGHT
DTSTART;VALUE=DATE:20080101
RRULE:FREQ=YEARLY;BYDAY=SU;BYHOUR=2;BYMINUTE=0;BYMONTH=10;BYMONTHDAY=1,2,3,
 4,5,6,7
TZOFFSETFROM:+1000
TZOFFSETTO:+1100
END:DAYLIGHT
END:VTIMEZONE
BEGIN:VEVENT
DESCRIPTION:
DTEND;TZID=AUS Eastern Standard Time:20250307T030000
DTSTAMP:20260420T053301
DTSTART;TZID=AUS Eastern Standard Time:20250307T020000
LOCATION:Northern Beaches Studio Avalon
SEQUENCE:0
SUMMARY:Meditation In person
UID:000ed5c1-5eb0-4470-8d8a-9a489ae12a11
URL:https://northernbeachesreiki.com.au/meditation-in-person-2025-03-06
END:VEVENT
END:VCALENDAR
